BEGIN:VCALENDAR
VERSION:2.0
PRODID:-//wp-events-plugin.com//7.0.5//EN
BEGIN:VEVENT
UID:0-5@b-i-consulting.com
DTSTART;TZID=Africa/Dakar;VALUE=DATE:20250514
DTEND;TZID=Africa/Dakar;VALUE=DATE:20250516
DTSTAMP:20250505T104202Z
URL:https://b-i-consulting.com/fr/events/swift-connect-africa-2025/
SUMMARY:Swift Connect Africa 2025
DESCRIPTION:Join us at Swift Connect Africa!\nBanking Intelligence Consulti
 ng (BIC) is proud to announce its participation as a Silver Sponsor at the
  prestigious Swift Connect Africa 2025 event\, taking place on May 14–15
  in Dakar at the renowned Noom Dakar Sea Plaza.\n\n\nOur Stand\n\n\nFind o
 ur experts\n\nAbout Us\nBanking Intelligence Consulting (BIC) crafts propr
 ietary solutions tailored for banks\, with a sharp focus on cybersecurity\
 , IT governance\, and regulatory excellence.\nOur cutting-edge solutions s
 pan financial flow analytics\, automated message conversion (MT/MX)\, and 
 secure archiving — purpose-built for banking operations.\nISO 27001 cert
 ified by TÜV Rheinland\, BIC brings extensive experience helping banks co
 mply with SWIFT CSP and international standards.\n\n[fluentform id="5"]
ATTACH;FMTTYPE=image/jpeg:https://b-i-consulting.com/wp-content/uploads/20
 25/05/banking-intelligence-consulting-swift-connect-africa-booth-C01-dakar
 -.png
END:VEVENT
BEGIN:VTIMEZONE
TZID:Africa/Dakar
X-LIC-LOCATION:Africa/Dakar
BEGIN:STANDARD
DTSTART:20240514T000000
TZOFFSETFROM:+0000
TZOFFSETTO:+0000
TZNAME:GMT
END:STANDARD
END:VTIMEZONE
END:VCALENDAR